BEGIN:VCALENDAR
VERSION:2.0
PRODID:-//wp-events-plugin.com//7.2.3.1//EN
BEGIN:VEVENT
UID:63@siljansnas.eu
DTSTART;TZID=Europe/Stockholm:20260106T170000
DTEND;TZID=Europe/Stockholm:20260106T183000
DTSTAMP:20251205T085252Z
URL:https://www.siljansnas.eu/events/kulturbanken-presenterar-trettondagsk
 oncert/
SUMMARY:Kulturbanken presenterar Trettondagskoncert
DESCRIPTION:\n\nTrettondagskonsert är lika med fest!\nNär: 6 januari\, k
 l 17.00Var: Siljansnäs Kyrka\nBiljetter:https://nortic.se/ticket/event/74
 896\n\n\n\n\nI år fokuserar Dalasinfoniettan på sång\, med pärlor 
 ur opera- och operettreper- toaren. Solister är mezzosopranen Ann-Kristi
 n Jones och sopranen Matilda Sterby. Jones är bördig från Leksand oc
 h musikutbildad i Falun\, Oslo och Köpenhamn. Hon har gedigen erfarenhet
  som opera- och konsertsångerska både i Sverige och utomlands. Sterby 
 är född i Stockholm och utbildad i Stockholm och Oslo. Hon fick sitt g
 enombrott 2022 och har sedan dess hunnit sjunga vid operahus både i Sver
 ige\, Tyskland och Österrike.Den italienska dirigenten och pianisten Dan
 iela Musca är flitigt anlitad som både opera- och orkesterdirigent. Ho
 n är utbildad i Rom\, Basel och Berlin och arbetar regelbundet både i 
 Tyskland och Norden.\nArrangör:Kulturbanken Siljansnäs\nMedverkande:Dala
 sinfoniettanDirigent – Daniela MuscaSopran– Matilda SterbyMezzosopran 
 - Ann-Kristin Jones\nRepertoar:Opera och Operett\nIllustration:Nora Tyskli
 nd\n\n\nLänk till evenemanget
ATTACH;FMTTYPE=image/jpeg:https://www.siljansnas.eu/wp-content/uploads/kul
 turbanken_trettondagskoncert_2025.jpg
CATEGORIES:Högtid,Musik
LOCATION:Siljansnäs kyrka\, Prästbacken 1\, Siljansnäs\, Dalarna\, 793 6
 0\, Sverige
X-APPLE-STRUCTURED-LOCATION;VALUE=URI;X-ADDRESS=Prästbacken 1\, Siljansnä
 s\, Dalarna\, 793 60\, Sverige;X-APPLE-RADIUS=100;X-TITLE=Siljansnäs kyrk
 a:geo:0,0
END:VEVENT
BEGIN:VTIMEZONE
TZID:Europe/Stockholm
X-LIC-LOCATION:Europe/Stockholm
BEGIN:STANDARD
DTSTART:20251026T020000
TZOFFSETFROM:+0200
TZOFFSETTO:+0100
TZNAME:CET
END:STANDARD
END:VTIMEZONE
END:VCALENDAR