BEGIN:VCALENDAR
VERSION:2.0
PRODID:-//wp-events-plugin.com//7.2.3.1//EN
BEGIN:VEVENT
UID:73@siljansnas.eu
DTSTART;TZID=Europe/Stockholm:20260407T163000
DTEND;TZID=Europe/Stockholm:20260407T184500
DTSTAMP:20260407T064009Z
URL:https://www.siljansnas.eu/events/pasklovsbio-grand-prix-tassarna-pa-ga
 sen/
SUMMARY:Påsklovsbio: Grand Prix-Tassarna på gasen
DESCRIPTION:Grand Prix-Tassarna på gasen\nBiljettpris 60krInsläpp från k
 l. 16.30filmen startar kl. 17.00Försäljning av popcorn\, godis och läsk
  på plats Varmt välkomna!\n\nLänk till FB-evenemang
ATTACH;FMTTYPE=image/jpeg:https://www.siljansnas.eu/wp-content/uploads/657
 659428_1358294126334386_4755366422744032284_n.jpg
CATEGORIES:Filmvisning
LOCATION:Sockenstugan\, Björkbergsvägen 58\, 79360 Siljansnäs\, Siljansn
 äs\, Dalarna\, 79360\, Dalarna\, Sverige
X-APPLE-STRUCTURED-LOCATION;VALUE=URI;X-ADDRESS=Björkbergsvägen 58\, 7936
 0 Siljansnäs\, Siljansnäs\, Dalarna\, 79360\, Dalarna\, Sverige;X-APPLE-
 RADIUS=100;X-TITLE=Sockenstugan:geo:0,0
END:VEVENT
BEGIN:VTIMEZONE
TZID:Europe/Stockholm
X-LIC-LOCATION:Europe/Stockholm
BEGIN:DAYLIGHT
DTSTART:20260329T030000
TZOFFSETFROM:+0100
TZOFFSETTO:+0200
TZNAME:CEST
END:DAYLIGHT
END:VTIMEZONE
END:VCALENDAR